0.2500000000
0.0000000000
0.0000000000
-0.2500000000
485293.1250000000
350437.1250000000
