0.2500000000
0.0000000000
0.0000000000
-0.2500000000
485378.3750000000
352713.6250000000
