0.2500000000
0.0000000000
0.0000000000
-0.2500000000
481932.6250000000
350563.3750000000
