0.2500000000
0.0000000000
0.0000000000
-0.2500000000
482018.3750000000
352839.8750000000
