0.2500000000
0.0000000000
0.0000000000
-0.2500000000
478572.3750000000
350689.8750000000
