0.2500000000
0.0000000000
0.0000000000
-0.2500000000
478658.3750000000
352966.6250000000
