0.2500000000
0.0000000000
0.0000000000
-0.2500000000
475211.8750000000
350817.1250000000
