0.2500000000
0.0000000000
0.0000000000
-0.2500000000
475298.3750000000
353093.6250000000
