0.2500000000
0.0000000000
0.0000000000
-0.2500000000
471851.6250000000
350944.8750000000
