0.2500000000
0.0000000000
0.0000000000
-0.2500000000
471938.3750000000
353221.3750000000
