0.2500000000
0.0000000000
0.0000000000
-0.2500000000
485463.6250000000
354990.3750000000
