0.2500000000
0.0000000000
0.0000000000
-0.2500000000
485549.1250000000
357266.8750000000
