0.2500000000
0.0000000000
0.0000000000
-0.2500000000
482104.1250000000
355116.3750000000
