0.2500000000
0.0000000000
0.0000000000
-0.2500000000
482189.6250000000
357392.8750000000
