0.2500000000
0.0000000000
0.0000000000
-0.2500000000
478744.3750000000
355243.1250000000
