0.2500000000
0.0000000000
0.0000000000
-0.2500000000
478830.3750000000
357519.6250000000
