0.2500000000
0.0000000000
0.0000000000
-0.2500000000
475384.6250000000
355370.1250000000
