0.2500000000
0.0000000000
0.0000000000
-0.2500000000
475471.1250000000
357646.6250000000
