0.2500000000
0.0000000000
0.0000000000
-0.2500000000
472025.1250000000
355497.8750000000
