0.2500000000
0.0000000000
0.0000000000
-0.2500000000
472111.6250000000
357774.3750000000
