0.2500000000
0.0000000000
0.0000000000
-0.2500000000
502429.6250000000
358920.6250000000
