0.2500000000
0.0000000000
0.0000000000
-0.2500000000
502513.1250000000
361197.1250000000
