0.2500000000
0.0000000000
0.0000000000
-0.2500000000
499070.6250000000
359044.1250000000
