0.2500000000
0.0000000000
0.0000000000
-0.2500000000
499154.3750000000
361320.6250000000
