0.2500000000
0.0000000000
0.0000000000
-0.2500000000
495711.3750000000
359168.1250000000
