0.2500000000
0.0000000000
0.0000000000
-0.2500000000
495795.6250000000
361444.8750000000
