0.2500000000
0.0000000000
0.0000000000
-0.2500000000
492352.3750000000
359292.6250000000
