0.2500000000
0.0000000000
0.0000000000
-0.2500000000
492437.1250000000
361569.3750000000
