0.2500000000
0.0000000000
0.0000000000
-0.2500000000
488993.3750000000
359417.8750000000
