0.2500000000
0.0000000000
0.0000000000
-0.2500000000
489078.3750000000
361694.3750000000
