0.2500000000
0.0000000000
0.0000000000
-0.2500000000
502596.8750000000
363473.8750000000
