0.2500000000
0.0000000000
0.0000000000
-0.2500000000
502680.3750000000
365750.3750000000
