0.2500000000
0.0000000000
0.0000000000
-0.2500000000
499238.3750000000
363597.3750000000
