0.2500000000
0.0000000000
0.0000000000
-0.2500000000
499322.3750000000
365873.8750000000
