0.2500000000
0.0000000000
0.0000000000
-0.2500000000
495879.8750000000
363721.3750000000
