0.2500000000
0.0000000000
0.0000000000
-0.2500000000
495964.3750000000
365997.8750000000
