0.2500000000
0.0000000000
0.0000000000
-0.2500000000
492521.6250000000
363845.8750000000
