0.2500000000
0.0000000000
0.0000000000
-0.2500000000
492606.1250000000
366122.3750000000
