0.2500000000
0.0000000000
0.0000000000
-0.2500000000
489163.3750000000
363970.8750000000
