0.2500000000
0.0000000000
0.0000000000
-0.2500000000
489248.1250000000
366247.6250000000
