0.2500000000
0.0000000000
0.0000000000
-0.2500000000
502763.8750000000
368027.1250000000
