0.2500000000
0.0000000000
0.0000000000
-0.2500000000
502847.6250000000
370303.6250000000
