0.2500000000
0.0000000000
0.0000000000
-0.2500000000
499406.1250000000
368150.6250000000
