0.2500000000
0.0000000000
0.0000000000
-0.2500000000
499490.1250000000
370427.1250000000
