0.2500000000
0.0000000000
0.0000000000
-0.2500000000
496048.6250000000
368274.6250000000
