0.2500000000
0.0000000000
0.0000000000
-0.2500000000
496132.8750000000
370551.1250000000
