0.2500000000
0.0000000000
0.0000000000
-0.2500000000
492690.8750000000
368399.1250000000
