0.2500000000
0.0000000000
0.0000000000
-0.2500000000
492775.3750000000
370675.6250000000
