0.2500000000
0.0000000000
0.0000000000
-0.2500000000
489333.1250000000
368524.1250000000
