0.2500000000
0.0000000000
0.0000000000
-0.2500000000
489418.1250000000
370800.6250000000
